BEGIN:VCALENDAR
VERSION:2.0
PRODID:KKTIX
CALSCALE:GREGORIAN
METHOD:PUBLISH
BEGIN:VTIMEZONE
TZID:Asia/Taipei
END:VTIMEZONE
BEGIN:VEVENT
DTSTAMP:20260421T202702Z
UID:0b3d24e0-597d-479b-8961-d09b9fe41c00
DTSTART:20170723T070000Z
DTEND:20170723T100000Z
CLASS:PUBLIC
DESCRIPTION:https://cafeluma.kktix.cc/events/100coffee0723
LOCATION: (台中市中區興中街52號) 麓瑪咖啡 Café Luma
SUMMARY:探索咖啡的一百種可能
END:VEVENT
END:VCALENDAR
